BEGIN:VCALENDAR
VERSION:2.0
PRODID:SchoolNow
CALSCALE:GREGORIAN
BEGIN:VEVENT
UID:74e47140-7c3c-11ef-9ea1-0a58a9feac02
DTSTAMP:20241003T170755Z
SUMMARY:Student & Staff Mixer - Bowling!
LOCATION:Sierra Bella Lanes Bowling Alley (East Quincy)
URL;VALUE=URI:https://www.frc.edu/studentlife/calendar/6696526/student-staf
 f-mixer-bowling
DTSTART:20241010T000000Z
DTEND:20241010T020000Z
ATTACH;FILENAME=Student Staff Bowling Mixer_FA24.jpg;FMTTYPE=image/jpeg:htt
 ps://campussuite-storage.s3.amazonaws.com/prod/1558523/0672826e-a84b-11e7-
 9779-0ae3e1d9783c/2857298/f6323c9c-81a9-11ef-9b25-0a58a9feac02/file/Studen
 t Staff Bowling Mixer_FA24.jpg
END:VEVENT
END:VCALENDAR
