BEGIN:VCALENDAR
VERSION:2.0
PRODID:SchoolNow
CALSCALE:GREGORIAN
BEGIN:VEVENT
UID:24eb7e86-7c23-11ef-98d8-020532869261
DTSTAMP:20240926T230906Z
SUMMARY:Fish Hatchery Fundraiser
LOCATION:FRC Fish Hatchery
URL;VALUE=URI:https://www.frc.edu/studentlife/calendar/6696478/fish-hatcher
 y-fundraiser
DTSTART:20241005T170000Z
DTEND:20241006T000000Z
END:VEVENT
END:VCALENDAR
