BEGIN:VCALENDAR
VERSION:2.0
PRODID:SchoolNow
CALSCALE:GREGORIAN
BEGIN:VEVENT
UID:c69e7bea-7b77-11ef-a27a-0a58a9feac02
DTSTAMP:20241007T154109Z
SUMMARY:Chico State University Campus Visit
URL;VALUE=URI:https://www.frc.edu/studentlife/calendar/6689137/chico-state-
 university-campus-visit
DTSTART:20241008T150000Z
DTEND:20241009T000000Z
ATTACH;FILENAME=Chico State Flyer2024.pdf;FMTTYPE=application/pdf:https://c
 ampussuite-storage.s3.amazonaws.com/prod/1558523/0672826e-a84b-11e7-9779-0
 ae3e1d9783c/2853461/77124cf4-7b78-11ef-88d3-0e68befffa43/file/Chico State 
 Flyer2024.pdf
END:VEVENT
END:VCALENDAR
