BEGIN:VCALENDAR
VERSION:2.0
PRODID:SchoolNow
CALSCALE:GREGORIAN
BEGIN:VEVENT
UID:269f5a78-760f-11ef-adb0-02090319b111
DTSTAMP:20240918T224131Z
SUMMARY:Banned Books Week
LOCATION:Advising Office
URL;VALUE=URI:https://www.frc.edu/studentlife/calendar/6636796/banned-books
 -week
DTSTART:20240922T223800Z
DTEND:20240928T233800Z
ATTACH;FILENAME=banned books.png;FMTTYPE=image/png:https://campussuite-stor
 age.s3.amazonaws.com/prod/1558523/0672826e-a84b-11e7-9779-0ae3e1d9783c/284
 9030/0d20712c-760f-11ef-b208-0a58a9feac02/file/banned books.png
END:VEVENT
END:VCALENDAR
