BEGIN:VCALENDAR
VERSION:2.0
PRODID:SchoolNow
CALSCALE:GREGORIAN
BEGIN:VEVENT
UID:4e51cea0-7152-11ef-b277-0e6e046549ed
DTSTAMP:20240912T215938Z
SUMMARY:Coffee Break Connection
URL;VALUE=URI:https://www.frc.edu/studentlife/calendar/6589118/coffee-break
 -connection
DTSTART:20240918T153000Z
DTEND:20240918T173000Z
END:VEVENT
END:VCALENDAR
