BEGIN:VCALENDAR
VERSION:2.0
PRODID:SchoolNow
CALSCALE:GREGORIAN
BEGIN:VEVENT
UID:ecd4075e-7068-11ef-8a97-0afff7df8a9b
DTSTAMP:20240912T220152Z
SUMMARY:Create and Connect- Art Night for Suicide Prevention Month
LOCATION:Art Studio
URL;VALUE=URI:https://www.frc.edu/studentlife/calendar/6580331/create-and-c
 onnect-art-night-for-suicide-prevention-month
DTSTART:20240924T003000Z
DTEND:20240924T023000Z
END:VEVENT
END:VCALENDAR
