BEGIN:VCALENDAR
VERSION:2.0
PRODID:SchoolNow
CALSCALE:GREGORIAN
BEGIN:VEVENT
UID:44b04122-6fc4-11ef-8acc-0291c7db3569
DTSTAMP:20241008T075107Z
SUMMARY:Last Day to Register to VOTE
URL;VALUE=URI:https://www.frc.edu/studentlife/calendar/6571278/last-day-to-
 register-to-vote
DTSTART;VALUE=DATE:20241021
DTEND;VALUE=DATE:20241022
END:VEVENT
END:VCALENDAR
