BEGIN:VCALENDAR
VERSION:2.0
PRODID:SchoolNow
CALSCALE:GREGORIAN
BEGIN:VEVENT
UID:de2abbfa-6f8f-11ef-a921-0a58a9feac02
DTSTAMP:20240910T161517Z
SUMMARY:Constitution Day
URL;VALUE=URI:https://www.frc.edu/studentlife/calendar/6569149/constitution
 -day
DTSTART;VALUE=DATE:20240917
DTEND;VALUE=DATE:20240918
END:VEVENT
END:VCALENDAR
