BEGIN:VCALENDAR
VERSION:2.0
PRODID:SchoolNow
CALSCALE:GREGORIAN
BEGIN:VEVENT
UID:dd0584ba-6f0a-11ef-ad31-0a58a9feac02
DTSTAMP:20241016T230023Z
SUMMARY:Stardust\, Songs\, & Stanzas: A Night of Art\, Poetry\, and Celesti
 al Fire
LOCATION:Creek near baseball fields
URL;VALUE=URI:https://www.frc.edu/studentlife/calendar/6565579/stardust-son
 gs-stanzas-a-night-of-art-poetry-and-celestial-fire
DTSTART:20241025T010000Z
DTEND:20241025T020000Z
END:VEVENT
END:VCALENDAR
