BEGIN:VCALENDAR
VERSION:2.0
PRODID:SchoolNow
CALSCALE:GREGORIAN
BEGIN:VEVENT
UID:80476040-6f0a-11ef-bde2-024a454e3793
DTSTAMP:20240912T210848Z
SUMMARY:Open Mic Night
LOCATION:Art Studio
URL;VALUE=URI:https://www.frc.edu/studentlife/calendar/6565577/open-mic
DTSTART:20240925T010000Z
DTEND:20240925T033000Z
ATTACH;FILENAME=Open Mic Night Flyer.png;FMTTYPE=image/png:https://campussu
 ite-storage.s3.amazonaws.com/prod/1558523/0672826e-a84b-11e7-9779-0ae3e1d9
 783c/2846260/1bd88920-714b-11ef-aabb-0afff3f87517/file/Open Mic Night Flye
 r.png
END:VEVENT
END:VCALENDAR
