BEGIN:VCALENDAR
VERSION:2.0
PRODID:SchoolNow
CALSCALE:GREGORIAN
BEGIN:VEVENT
UID:3b28b3f6-664a-11ef-a114-0affd6ab9cd7
DTSTAMP:20240904T225047Z
SUMMARY:Ice Cream Social & FRC Club Mixer
LOCATION:Outside The Perch
URL;VALUE=URI:https://www.frc.edu/studentlife/calendar/6484523/ice-cream-so
 cial-frc-club-mixer
DTSTART:20240912T183000Z
DTEND:20240912T200000Z
END:VEVENT
END:VCALENDAR
