BEGIN:VCALENDAR
VERSION:2.0
PRODID:SchoolNow
CALSCALE:GREGORIAN
BEGIN:VEVENT
UID:6aeff000-655e-11ef-9f7b-0a58a9feac02
DTSTAMP:20240828T165606Z
SUMMARY:Feather River College Rodeo
LOCATION:Plumas County Fair Grounds
URL;VALUE=URI:https://www.frc.edu/studentlife/calendar/6474129/feather-rive
 r-college-rodeo
DTSTART:20241004T165200Z
DTEND:20241005T155200Z
ATTACH;FILENAME=FRC Rodeo Flyer_2024_FINAL.jpg;FMTTYPE=image/jpeg:https://c
 ampussuite-storage.s3.amazonaws.com/prod/1558523/0672826e-a84b-11e7-9779-0
 ae3e1d9783c/2839024/587eba32-655e-11ef-ba94-0afff10b48e9/file/FRC Rodeo Fl
 yer_2024_FINAL.jpg
END:VEVENT
END:VCALENDAR
