BEGIN:VCALENDAR
VERSION:2.0
PRODID:SchoolNow
CALSCALE:GREGORIAN
BEGIN:VEVENT
UID:687e3be6-63cf-11ef-bc5e-0ec9eb09a8e7
DTSTAMP:20241022T194208Z
SUMMARY:Free Lunch for Students
LOCATION:Eagles Perch
URL;VALUE=URI:https://www.frc.edu/studentlife/calendar/6461758/free-lunch-f
 or-students-clone-clone-clone-clone-clone
DTSTART:20241031T180000Z
DTEND:20241031T210000Z
END:VEVENT
END:VCALENDAR
