BEGIN:VCALENDAR
VERSION:2.0
PRODID:SchoolNow
CALSCALE:GREGORIAN
BEGIN:VEVENT
UID:4c8b6846-63cf-11ef-8c40-0a58a9feac02
DTSTAMP:20240826T171906Z
SUMMARY:Free Lunch for Students
LOCATION:Eagles Perch
URL;VALUE=URI:https://www.frc.edu/studentlife/calendar/6461752/free-lunch-f
 or-students-clone-clone-clone
DTSTART:20241003T180000Z
DTEND:20241003T210000Z
END:VEVENT
END:VCALENDAR
