BEGIN:VCALENDAR
VERSION:2.0
PRODID:SchoolNow
CALSCALE:GREGORIAN
BEGIN:VEVENT
UID:cc0c44e6-5c0e-11ef-bd89-0a58a9feac02
DTSTAMP:20240816T203426Z
SUMMARY:Day on the River
LOCATION:ORL Building
URL;VALUE=URI:https://www.frc.edu/studentlife/calendar/6414520/day-on-the-r
 iver
DTSTART:20240828T210000Z
DTEND:20240828T230000Z
END:VEVENT
END:VCALENDAR
