BEGIN:VCALENDAR
VERSION:2.0
PRODID:SchoolNow
CALSCALE:GREGORIAN
BEGIN:VEVENT
UID:7f1b682c-4f95-11ef-9887-0a58a9feac02
DTSTAMP:20241004T195159Z
SUMMARY:National Voter Education Week
URL;VALUE=URI:https://www.frc.edu/studentlife/calendar/6336741/national-vot
 er-education-week
DTSTART;VALUE=DATE:20241007
DTEND;VALUE=DATE:20241012
END:VEVENT
END:VCALENDAR
