BEGIN:VCALENDAR
VERSION:2.0
PRODID:SchoolNow
CALSCALE:GREGORIAN
BEGIN:VEVENT
UID:3a2b57c4-4f70-11ef-aea8-0a58a9feac02
DTSTAMP:20240911T200546Z
SUMMARY:Celebrate Democracy! National Voter Registration Day
LOCATION:Outside the Perch
URL;VALUE=URI:https://www.frc.edu/studentlife/calendar/6335405/celebrate-de
 mocracy-national-voter-registration-day
DTSTART:20240917T183000Z
DTEND:20240917T200000Z
END:VEVENT
END:VCALENDAR
