BEGIN:VCALENDAR
VERSION:2.0
PRODID:SchoolNow
CALSCALE:GREGORIAN
BEGIN:VEVENT
UID:966ac014-4dff-11ef-8ed6-0a58a9feac02
DTSTAMP:20240906T193319Z
SUMMARY:College\, Career\, and Transfer Fair
LOCATION:Lower Campus
URL;VALUE=URI:https://www.frc.edu/studentlife/calendar/6325883/college-care
 er-and-transfer-fair
DTSTART;VALUE=DATE:20240917
DTEND;VALUE=DATE:20240918
END:VEVENT
END:VCALENDAR
