BEGIN:VCALENDAR
VERSION:2.0
PRODID:SchoolNow
CALSCALE:GREGORIAN
BEGIN:VEVENT
UID:0a57615a-484f-11ef-b0e5-0a58a9feac02
DTSTAMP:20240821T221709Z
SUMMARY:Dinner & Movie (WOW Event)
LOCATION:FRC Gymnasium
URL;VALUE=URI:https://www.frc.edu/studentlife/calendar/6294172/dinner-movie
 -on-the-green-wow-event
DTSTART:20240824T010000Z
DTEND:20240824T030000Z
END:VEVENT
END:VCALENDAR
