BEGIN:VCALENDAR
VERSION:2.0
PRODID:SchoolNow
CALSCALE:GREGORIAN
BEGIN:VEVENT
UID:add4d3c2-484e-11ef-9f93-0a58a9feac02
DTSTAMP:20240822T235217Z
SUMMARY:DELAYED - Concert on the Green
LOCATION:Lower Green (FRC campus)
URL;VALUE=URI:https://www.frc.edu/studentlife/calendar/6294169/concert-on-t
 he-green-wow-event
DTSTART:20240823T013000Z
DTEND:20240823T030000Z
END:VEVENT
END:VCALENDAR
