BEGIN:VCALENDAR
VERSION:2.0
PRODID:SchoolNow
CALSCALE:GREGORIAN
BEGIN:VEVENT
UID:dc3cac2c-484d-11ef-a577-0affcc9053ad
DTSTAMP:20240722T171431Z
SUMMARY:Games on the Green (WOW Event)
LOCATION:Upper Green
URL;VALUE=URI:https://www.frc.edu/studentlife/calendar/6294068/games-on-the
 -green-wow-event
DTSTART:20240820T183000Z
DTEND:20240820T200000Z
END:VEVENT
END:VCALENDAR
