BEGIN:VCALENDAR
VERSION:2.0
PRODID:SchoolNow
CALSCALE:GREGORIAN
BEGIN:VEVENT
UID:103b12d0-484d-11ef-a971-0a58a9feac02
DTSTAMP:20240816T204321Z
SUMMARY:"Deadpool and Wolverine" Movie at Town Hall Theater
LOCATION:Town Hall Theater
URL;VALUE=URI:https://www.frc.edu/studentlife/calendar/6294064/movie-at-tow
 n-hall-theater
DTSTART:20240817T020000Z
DTEND:20240819T040000Z
END:VEVENT
END:VCALENDAR
