BEGIN:VCALENDAR
VERSION:2.0
PRODID:SchoolNow
CALSCALE:GREGORIAN
BEGIN:VEVENT
UID:96d97706-484c-11ef-9e37-0eb674a9d459
DTSTAMP:20240816T190048Z
SUMMARY:Welcome Dinner (WOW Event)
LOCATION:Basketball courts near Ag/Equine
URL;VALUE=URI:https://www.frc.edu/studentlife/calendar/6294062/welcome-dinn
 er-wow-event
DTSTART:20240817T000000Z
DTEND:20240817T020000Z
END:VEVENT
END:VCALENDAR
