BEGIN:VCALENDAR
VERSION:2.0
PRODID:SchoolNow
CALSCALE:GREGORIAN
BEGIN:VEVENT
UID:4086f072-484c-11ef-9f74-0a58a9feac02
DTSTAMP:20240722T170300Z
SUMMARY:New Student Orientation
URL;VALUE=URI:https://www.frc.edu/studentlife/calendar/6294061/new-student-
 orientation-clone-clone-clone-clone
DTSTART;VALUE=DATE:20240816
DTEND;VALUE=DATE:20240817
END:VEVENT
END:VCALENDAR
