BEGIN:VCALENDAR
VERSION:2.0
PRODID:SchoolNow
CALSCALE:GREGORIAN
BEGIN:VEVENT
UID:b3be9a4a-43d3-11ef-9615-0ef335e2e327
DTSTAMP:20250110T210025Z
SUMMARY:New Student Orientation (new spring students only)
LOCATION:Learning Resource Center (First floor of the Library)
URL;VALUE=URI:https://www.frc.edu/studentlife/calendar/6270303/wow-new-stud
 ent-orientation-clone-clone
DTSTART;VALUE=DATE:20250117
DTEND;VALUE=DATE:20250118
END:VEVENT
END:VCALENDAR
