BEGIN:VCALENDAR
VERSION:2.0
PRODID:SchoolNow
CALSCALE:GREGORIAN
BEGIN:VEVENT
UID:52471054-1213-11ef-9bcc-0a58a9feac02
DTSTAMP:20240514T165926Z
SUMMARY:2024 FRC Annual Production Horse Sale
LOCATION:FRC Equine Center
URL;VALUE=URI:https://www.frc.edu/studentlife/calendar/5970145/2024-frc-ann
 ual-production-horse-sale
DTSTART:20240517T165300Z
DTEND:20240518T175300Z
END:VEVENT
END:VCALENDAR
