BEGIN:VCALENDAR
VERSION:2.0
PRODID:SchoolNow
CALSCALE:GREGORIAN
BEGIN:VEVENT
UID:5b30273c-0e4e-11ef-9b38-0afff106747b
DTSTAMP:20240514T161750Z
SUMMARY:Student Housing Year-End Celebration!
LOCATION:Sand Beach Volleyball Courts
URL;VALUE=URI:https://www.frc.edu/studentlife/calendar/5944789/student-hous
 ing-year-end-celebration
DTSTART:20240517T010000Z
DTEND:20240517T030000Z
END:VEVENT
END:VCALENDAR
