BEGIN:VCALENDAR
VERSION:2.0
PRODID:SchoolNow
CALSCALE:GREGORIAN
BEGIN:VEVENT
UID:62305a34-0809-11ef-9387-0222fcec6e8f
DTSTAMP:20240501T224153Z
SUMMARY:Comedy Movie Night
LOCATION:Outdoor Courts by Ag
URL;VALUE=URI:https://www.frc.edu/studentlife/calendar/5896177/comedy-movie
 -night
DTSTART:20240516T023000Z
DTEND:20240516T043000Z
END:VEVENT
END:VCALENDAR
