BEGIN:VCALENDAR
VERSION:2.0
PRODID:SchoolNow
CALSCALE:GREGORIAN
BEGIN:VEVENT
UID:c8ca9f8e-064c-11ef-a729-0a58a9feac02
DTSTAMP:20240429T172032Z
SUMMARY:Harry Potter Day at Advising Office
LOCATION:Advising Office
URL;VALUE=URI:https://www.frc.edu/studentlife/calendar/5882009/harry-potter
 -day-at-advising-office
DTSTART:20240502T150000Z
DTEND:20240503T000000Z
ATTACH;FILENAME=Harry Potter Day 2024 final.jpg;FMTTYPE=image/jpeg:https://
 campussuite-storage.s3.amazonaws.com/prod/1558523/0672826e-a84b-11e7-9779-
 0ae3e1d9783c/2777673/a4f4d6e2-064c-11ef-adb9-0a58a9feac02/file/Harry Potte
 r Day 2024 final.jpg
END:VEVENT
END:VCALENDAR
