BEGIN:VCALENDAR
VERSION:2.0
PRODID:SchoolNow
CALSCALE:GREGORIAN
BEGIN:VEVENT
UID:b31b4f92-0194-11ef-a18c-0a58a9feac02
DTSTAMP:20240423T171244Z
SUMMARY:Basic Needs Farmers Market
LOCATION:In front of the Perch
URL;VALUE=URI:https://www.frc.edu/studentlife/calendar/5843241/basic-needs-
 farmers-market
DTSTART:20240507T170000Z
DTEND:20240507T200000Z
END:VEVENT
END:VCALENDAR
