BEGIN:VCALENDAR
VERSION:2.0
PRODID:SchoolNow
CALSCALE:GREGORIAN
BEGIN:VEVENT
UID:fba0d646-018b-11ef-a34f-0a58a9feac02
DTSTAMP:20240423T161438Z
SUMMARY:Caring Campus Diversity Processing Group
LOCATION:FRC Student Lounge
URL;VALUE=URI:https://www.frc.edu/studentlife/calendar/5843210/caring-campu
 s-diversity-processing-group
DTSTART:20240501T010000Z
DTEND:20240501T020000Z
ATTACH;FILENAME=Caring Campus Diversity Processing Group.png;FMTTYPE=image/
 png:https://campussuite-storage.s3.amazonaws.com/prod/1558523/0672826e-a84
 b-11e7-9779-0ae3e1d9783c/2775155/9a7bac38-018b-11ef-b195-0a58a9feac02/file
 /Caring Campus Diversity Processing Group.png
END:VEVENT
END:VCALENDAR
