BEGIN:VCALENDAR
VERSION:2.0
PRODID:SchoolNow
CALSCALE:GREGORIAN
BEGIN:VEVENT
UID:d068b2d2-fe70-11ee-a50d-0afffde6f289
DTSTAMP:20240419T171818Z
SUMMARY:"2040" Film Screening
LOCATION:Town Hall Theater
URL;VALUE=URI:https://www.frc.edu/studentlife/calendar/5817075/2040-film-sc
 reening
DTSTART:20240426T010000Z
DTEND:20240426T030000Z
END:VEVENT
END:VCALENDAR
