BEGIN:VCALENDAR
VERSION:2.0
PRODID:SchoolNow
CALSCALE:GREGORIAN
BEGIN:VEVENT
UID:880951e0-fdad-11ee-a695-0affdac7174f
DTSTAMP:20240418T180024Z
SUMMARY:Campus Trash Clean-up Contest
URL;VALUE=URI:https://www.frc.edu/studentlife/calendar/5811409/campus-trash
 -clean-up-contest
DTSTART:20240422T190000Z
DTEND:20240422T200000Z
END:VEVENT
END:VCALENDAR
