BEGIN:VCALENDAR
VERSION:2.0
PRODID:SchoolNow
CALSCALE:GREGORIAN
BEGIN:VEVENT
UID:3024abb4-fb78-11ee-8e26-0affdac7174f
DTSTAMP:20240415T223331Z
SUMMARY:Spring Sports Celebration Lunch
LOCATION:The Perch
URL;VALUE=URI:https://www.frc.edu/studentlife/calendar/5790772/spring-sport
 s-celebration-lunch
DTSTART:20240419T190000Z
DTEND:20240419T200000Z
END:VEVENT
END:VCALENDAR
