BEGIN:VCALENDAR
VERSION:2.0
PRODID:SchoolNow
CALSCALE:GREGORIAN
BEGIN:VEVENT
UID:dbf3cd0c-f845-11ee-a033-0affeb46778b
DTSTAMP:20240424T200404Z
SUMMARY:ASFRC Elections: VOTE NOW
URL;VALUE=URI:https://www.frc.edu/studentlife/calendar/5761122/asfrc-electi
 ons-vote-now
DTSTART:20240424T150000Z
DTEND:20240430T065900Z
END:VEVENT
END:VCALENDAR
