BEGIN:VCALENDAR
VERSION:2.0
PRODID:SchoolNow
CALSCALE:GREGORIAN
BEGIN:VEVENT
UID:de2f72de-f75e-11ee-88ad-025ee24b5243
DTSTAMP:20240410T172212Z
SUMMARY:Veterans Student Panel
LOCATION:LRC 850
URL;VALUE=URI:https://www.frc.edu/studentlife/calendar/5753808/veterans-stu
 dent-panel
DTSTART:20240425T200000Z
DTEND:20240425T210000Z
END:VEVENT
END:VCALENDAR
