BEGIN:VCALENDAR
VERSION:2.0
PRODID:SchoolNow
CALSCALE:GREGORIAN
BEGIN:VEVENT
UID:cf73138c-f5ff-11ee-a5a5-0a58a9feac02
DTSTAMP:20240409T214419Z
SUMMARY:Denim Day - Community Event with Dinner and Awareness Walk
LOCATION:Plumas Crisis Intervention and Resource Center 591 W. Main St.  Qu
 incy\, California 95971
URL;VALUE=URI:https://www.frc.edu/studentlife/calendar/5740139/denim-day-di
 nner-and-survivor-walk
DTSTART:20240425T000000Z
DTEND:20240425T020000Z
END:VEVENT
END:VCALENDAR
