BEGIN:VCALENDAR
VERSION:2.0
PRODID:SchoolNow
CALSCALE:GREGORIAN
BEGIN:VEVENT
UID:289a405e-f20c-11ee-9c76-0ef6ccb05d1b
DTSTAMP:20240424T222525Z
SUMMARY:CCC LGBTQ+ Summit
LOCATION:Online
URL;VALUE=URI:https://www.frc.edu/studentlife/calendar/5702311/ccc-lgbtq-su
 mmit
DTSTART:20240423T190000Z
DTEND:20240425T000000Z
END:VEVENT
END:VCALENDAR
