BEGIN:VCALENDAR
VERSION:2.0
PRODID:SchoolNow
CALSCALE:GREGORIAN
BEGIN:VEVENT
UID:a89aeb46-eaeb-11ee-85b8-0a58a9feac02
DTSTAMP:20240409T214237Z
SUMMARY:Student Ambassador Application Deadline
URL;VALUE=URI:https://www.frc.edu/studentlife/calendar/5629967/student-amba
 ssador-application-deadline
DTSTART:20240423T000000Z
DTEND:20240423T010000Z
END:VEVENT
END:VCALENDAR
