BEGIN:VCALENDAR
VERSION:2.0
PRODID:SchoolNow
CALSCALE:GREGORIAN
BEGIN:VEVENT
UID:9bd5c3c8-e87e-11ee-8ce0-0a58a9feac02
DTSTAMP:20240408T212742Z
SUMMARY:ASFRC Ballot Statements
URL;VALUE=URI:https://www.frc.edu/studentlife/calendar/5607020/asfrc-ballot
 -statements-due
DTSTART:20240408T150000Z
DTEND:20240423T065900Z
END:VEVENT
END:VCALENDAR
