BEGIN:VCALENDAR
VERSION:2.0
PRODID:SchoolNow
CALSCALE:GREGORIAN
BEGIN:VEVENT
UID:9a399eb0-e7b4-11ee-8623-0280b1885b09
DTSTAMP:20240321T185536Z
SUMMARY:Diversity Processing Group
LOCATION:Student Lounge
URL;VALUE=URI:https://www.frc.edu/studentlife/calendar/5598866/diversity-pr
 ocessing-group
DTSTART:20240327T010000Z
DTEND:20240327T020000Z
ATTACH;FILENAME=Diversity Processing Group Flyer.png;FMTTYPE=image/png:http
 s://campussuite-storage.s3.amazonaws.com/prod/1558523/0672826e-a84b-11e7-9
 779-0ae3e1d9783c/2760979/c677215e-e7b0-11ee-939e-0a58a9feac02/file/Diversi
 ty Processing Group Flyer.png
END:VEVENT
END:VCALENDAR
