BEGIN:VCALENDAR
VERSION:2.0
PRODID:SchoolNow
CALSCALE:GREGORIAN
BEGIN:VEVENT
UID:6ff556a4-e17d-11ee-bcb0-0a58a9feac02
DTSTAMP:20240313T210609Z
SUMMARY:Meet your ASFRC Peeps!
LOCATION:In front of the Perch
URL;VALUE=URI:https://www.frc.edu/studentlife/calendar/5536938/meet-your-as
 frc-peeps
DTSTART:20240318T190000Z
DTEND:20240318T200000Z
END:VEVENT
END:VCALENDAR
