BEGIN:VCALENDAR
VERSION:2.0
PRODID:SchoolNow
CALSCALE:GREGORIAN
BEGIN:VEVENT
UID:a64c2e14-e095-11ee-9e3a-0a58a9feac02
DTSTAMP:20240312T172623Z
SUMMARY:Photography Art Reception
LOCATION:Art building
URL;VALUE=URI:https://www.frc.edu/studentlife/calendar/5526522/photography-
 art-reception
DTSTART:20240314T000000Z
DTEND:20240314T020000Z
ATTACH;FILENAME=Art gallery.jpg;FMTTYPE=image/jpeg:https://campussuite-stor
 age.s3.amazonaws.com/prod/1558523/0672826e-a84b-11e7-9779-0ae3e1d9783c/275
 6041/98151522-e095-11ee-90b7-0afff6cf5711/file/Art gallery.jpg
END:VEVENT
END:VCALENDAR
