BEGIN:VCALENDAR
VERSION:2.0
PRODID:SchoolNow
CALSCALE:GREGORIAN
BEGIN:VEVENT
UID:043be6f4-dcae-11ee-bafd-0a58a9feac02
DTSTAMP:20240307T181044Z
SUMMARY:3-on-3 Basketball Tournament
LOCATION:FRC Gymnasium
URL;VALUE=URI:https://www.frc.edu/studentlife/calendar/5488880/3-on-3-baske
 tball-tournament-clone
DTSTART:20240321T010000Z
DTEND:20240321T030000Z
END:VEVENT
END:VCALENDAR
