BEGIN:VCALENDAR
VERSION:2.0
PRODID:SchoolNow
CALSCALE:GREGORIAN
BEGIN:VEVENT
UID:e7771902-da60-11ee-a275-0ebe5f717b7b
DTSTAMP:20240304T195343Z
SUMMARY:International Women's Day (Wear Purple)
URL;VALUE=URI:https://www.frc.edu/studentlife/calendar/5463603/internationa
 l-womens-day-wear-purple
DTSTART:20240308T194800Z
DTEND:20240308T204800Z
END:VEVENT
END:VCALENDAR
