BEGIN:VCALENDAR
VERSION:2.0
PRODID:SchoolNow
CALSCALE:GREGORIAN
BEGIN:VEVENT
UID:bf248abe-d819-11ee-8794-0e595ba19fb3
DTSTAMP:20240820T165038Z
SUMMARY:Get out the Vote: Pop to the Polls
LOCATION:Administration Office\,  Student Lounge\, Student Wellness and Suc
 cess Center
URL;VALUE=URI:https://www.frc.edu/studentlife/calendar/5442171/get-out-the-
 vote-pop-to-the-polls
DTSTART;VALUE=DATE:20240304
DTEND;VALUE=DATE:20240305
END:VEVENT
END:VCALENDAR
