BEGIN:VCALENDAR
VERSION:2.0
PRODID:SchoolNow
CALSCALE:GREGORIAN
BEGIN:VEVENT
UID:ecee5462-d72d-11ee-ae84-0e32e3ca96df
DTSTAMP:20240306T182643Z
SUMMARY:Safe Space & BSU Meeting
LOCATION:Room 871
URL;VALUE=URI:https://www.frc.edu/studentlife/calendar/5431670/safe-space-b
 su-meeting
DTSTART:20240306T020000Z
DTEND:20240306T030000Z
ATTACH;FILENAME=BSU.jpg;FMTTYPE=image/jpeg:https://campussuite-storage.s3.a
 mazonaws.com/prod/1558523/0672826e-a84b-11e7-9779-0ae3e1d9783c/2749591/d58
 df8a4-d72d-11ee-b0f5-0affdaf03361/file/BSU.jpg
END:VEVENT
END:VCALENDAR
