BEGIN:VCALENDAR
VERSION:2.0
PRODID:SchoolNow
CALSCALE:GREGORIAN
BEGIN:VEVENT
UID:27a200d0-c5e6-11ee-b12d-0a58a9feac02
DTSTAMP:20240213T165954Z
SUMMARY:HBCU Expo in Oakland
LOCATION:Oakland\, CA
URL;VALUE=URI:https://www.frc.edu/studentlife/calendar/5279861/hbcu-expo-in
 -oakland
DTSTART:20240216T200000Z
DTEND:20240218T040000Z
END:VEVENT
END:VCALENDAR
