BEGIN:VCALENDAR
VERSION:2.0
PRODID:SchoolNow
CALSCALE:GREGORIAN
BEGIN:VEVENT
UID:2eacdec2-c5dc-11ee-a9af-0a58a9feac02
DTSTAMP:20240207T171316Z
SUMMARY:Astronomy Night - Stargazing at FRC Observatory
LOCATION:FRC Observatory (near baseball field)
URL;VALUE=URI:https://www.frc.edu/studentlife/calendar/5279778/astronomy-ni
 ght-stargazing-at-frc-observatory
DTSTART:20240211T030000Z
DTEND:20240211T043000Z
ATTACH;FILENAME=Astronomy night saturday .pdf;FMTTYPE=application/pdf:https
 ://campussuite-storage.s3.amazonaws.com/prod/1558523/0672826e-a84b-11e7-97
 79-0ae3e1d9783c/2738406/91ae22e8-c5db-11ee-bf3b-0a58a9feac02/file/Astronom
 y night saturday .pdf
END:VEVENT
END:VCALENDAR
