BEGIN:VCALENDAR
VERSION:2.0
PRODID:SchoolNow
CALSCALE:GREGORIAN
BEGIN:VEVENT
UID:8cf1a1aa-c093-11ee-81fd-0a58a9feac02
DTSTAMP:20240131T235045Z
SUMMARY:ASFRC Meeting
LOCATION:Room 605
URL;VALUE=URI:https://www.frc.edu/studentlife/calendar/5238341/asfrc-meetin
 g-clone-clone-clone-clone-clone-clone
DTSTART:20240422T190000Z
DTEND:20240422T200000Z
END:VEVENT
END:VCALENDAR
